BEGIN:VCALENDAR
VERSION:2.0
PRODID:-//ChamberMaster//Event Calendar 2.0//EN
METHOD:PUBLISH
X-PUBLISHED-TTL:P3D
REFRESH-INTERVAL:P3D
CALSCALE:GREGORIAN
BEGIN:VEVENT
DTSTART:20251002T200000Z
DTEND:20251002T213000Z
X-MICROSOFT-CDO-ALLDAYEVENT:FALSE
SUMMARY:Ribbon Cutting Ceremony~ Inspired Wealth Management
DESCRIPTION:Join us to celebrate Inspired Wealth Management at their ribbon cutting ceremony!
X-ALT-DESC;FMTTYPE=text/html:<span style="color: rgb(68\, 68\, 68)\; font-family: &quot\;comic sans ms&quot\;\; font-size: 20px\;">Join us to celebrate Inspired Wealth Management at their ribbon cutting ceremony!&nbsp\;</span>
LOCATION:6 First Ave SE\, Moultrie\, GA 31768
UID:e.570.13420
SEQUENCE:3
DTSTAMP:20260423T151453Z
URL:https://business.moultriechamber.com/events/details/ribbon-cutting-ceremony-inspired-wealth-management-13420
END:VEVENT

END:VCALENDAR
