BEGIN:VCALENDAR
VERSION:2.0
PRODID:-//ChamberMaster//Event Calendar 2.0//EN
METHOD:PUBLISH
X-PUBLISHED-TTL:P3D
REFRESH-INTERVAL:P3D
CALSCALE:GREGORIAN
BEGIN:VEVENT
DTSTART:20250325T200000Z
DTEND:20250325T210000Z
X-MICROSOFT-CDO-ALLDAYEVENT:FALSE
SUMMARY:Ribbon Cutting Ceremony for SRTC - Moultrie Building B Barber Shop
DESCRIPTION:You are invited to a Ribbon Cutting Ceremony hosted for the Southern Regional Technical College - Moultrie Building B Barber Shop!
X-ALT-DESC;FMTTYPE=text/html:You are invited to a Ribbon Cutting Ceremony hosted for the Southern Regional Technical College - Moultrie Building B Barber Shop!&nbsp\;
LOCATION:Southern Regional Technical College Building B
UID:e.570.13331
SEQUENCE:3
DTSTAMP:20260423T191610Z
URL:https://business.moultriechamber.com/events/details/ribbon-cutting-ceremony-for-srtc-moultrie-building-b-barber-shop-13331
END:VEVENT

END:VCALENDAR
