BEGIN:VCALENDAR
VERSION:2.0
PRODID:-//ChamberMaster//Event Calendar 2.0//EN
METHOD:PUBLISH
X-PUBLISHED-TTL:P3D
REFRESH-INTERVAL:P3D
CALSCALE:GREGORIAN
BEGIN:VEVENT
DTSTART:20251002T140000Z
DTEND:20251002T150000Z
X-MICROSOFT-CDO-ALLDAYEVENT:FALSE
SUMMARY:Ribbon Cutting Ceremony~ Dani & Co. - Luxe Style Revival
DESCRIPTION:Join us to celebrate Dani & Co. - Luxe Style Revival at their ribbon cutting ceremony!
X-ALT-DESC;FMTTYPE=text/html:<br />\n<br />\n<br />\n<span style="font-size:20px\;"><span style="font-family:comic sans ms\;">Join us to celebrate Dani &amp\; Co. - Luxe Style Revival at their ribbon cutting ceremony!&nbsp\;</span></span>
LOCATION:143 US Hwy 319 S Suite 14\, Moultrie\, GA 31788
UID:e.570.13419
SEQUENCE:3
DTSTAMP:20260423T162911Z
URL:https://business.moultriechamber.com/events/details/ribbon-cutting-ceremony-dani-co-luxe-style-revival-13419
END:VEVENT

END:VCALENDAR
