BEGIN:VCALENDAR
VERSION:2.0
PRODID:-//ChamberMaster//Event Calendar 2.0//EN
METHOD:PUBLISH
X-PUBLISHED-TTL:P3D
REFRESH-INTERVAL:P3D
CALSCALE:GREGORIAN
BEGIN:VEVENT
DTSTART:20250623T200000Z
DTEND:20250623T200000Z
X-MICROSOFT-CDO-ALLDAYEVENT:FALSE
SUMMARY:Ribbon Cutting - Angels of Purpose
DESCRIPTION:Join us as we celebrate a ribbon cutting celebration for Angels of Purpose!
X-ALT-DESC;FMTTYPE=text/html:Join us as we celebrate a ribbon cutting celebration for&nbsp\;<span data-teams="true"><strong>Angels of Purpose!</strong></span>
LOCATION:The Chamber Office
UID:e.570.13374
SEQUENCE:3
DTSTAMP:20260423T110833Z
URL:https://business.moultriechamber.com/events/details/ribbon-cutting-angels-of-purpose-13374
END:VEVENT

END:VCALENDAR
