BEGIN:VCALENDAR
VERSION:2.0
PRODID:-//ChamberMaster//Event Calendar 2.0//EN
METHOD:PUBLISH
X-PUBLISHED-TTL:P3D
REFRESH-INTERVAL:P3D
CALSCALE:GREGORIAN
BEGIN:VEVENT
DTSTART:20240426T220000Z
DTEND:20240427T020000Z
X-MICROSOFT-CDO-ALLDAYEVENT:FALSE
SUMMARY:Relay For Life
DESCRIPTION:"We're In It\, To Win It" and invite you to Colquitt County's 2024 Relay For Life\, scheduled for Friday\, April 26 in front of the of the Ag Building located at 350 N. Veterans Parkway. The Opening Ceremonies begin at 6:00 p.m. The lighting of luminaria will begin at approximately 9:00 PM and we invite you to be a part of this special ceremony. Join us as we pay tribute with luminaries "In Honor" and "In Memory" of those touched by cancer.
X-ALT-DESC;FMTTYPE=text/html:&ldquo\;We&rsquo\;re In It\, To Win It&rdquo\; and invite you to Colquitt County&rsquo\;s 2024 Relay For Life\, scheduled for Friday\, April 26 in front of the of the Ag Building located at 350 N. Veterans Parkway. The Opening Ceremonies begin at 6:00 p.m. The lighting of luminaria will begin at approximately 9:00 PM and we invite you to be a part of this special ceremony. Join us as we pay tribute with luminaries &ldquo\;In Honor&rdquo\; and &ldquo\;In Memory&rdquo\; of those touched by cancer.
LOCATION:Colquitt County Ag Complex
UID:e.570.13259
SEQUENCE:3
DTSTAMP:20260424T083951Z
URL:https://business.moultriechamber.com/events/details/relay-for-life-04-26-2024-13259
END:VEVENT

END:VCALENDAR
