BEGIN:VCALENDAR
VERSION:2.0
PRODID:-//ChamberMaster//Event Calendar 2.0//EN
METHOD:PUBLISH
X-PUBLISHED-TTL:P3D
REFRESH-INTERVAL:P3D
CALSCALE:GREGORIAN
BEGIN:VEVENT
DTSTART:20260501T130000Z
DTEND:20260503T130000Z
X-MICROSOFT-CDO-ALLDAYEVENT:FALSE
SUMMARY:RecX Outdoor Recreational Expo
DESCRIPTION:Join us for the Southeast's premier outdoor Recreational Expo!\n\nThis exciting event brings together outdoor enthusiasts\, families\, hobbyists\, and adventure seekers for an unforgettable weekend of activities\, exhibits\, and entertainment.\n\nRecX is currently seeking exhibitors to showcase their products and services to a wide audience. If you're interested in being part of the action\, view the Exhibitor Guide & Contract. If you are interested in becoming a sponsor\, please contact us at recx@recxoutdoors.com. \n\nThere are also sponsorship opportunities available for businesses looking to increase visibility and connect with attendees in a meaningful way. Explore the 2026 Sponsorship Packet to find the level that's right for you.\n\nDon't miss your chance to be part of this premier outdoor event!
X-ALT-DESC;FMTTYPE=text/html:<p><span style="font-size:20px"><span style="font-family:times new roman"><strong>Join us for the Southeast&rsquo\;s premier outdoor Recreational Expo!</strong></span></span><br />\nThis exciting event brings together outdoor enthusiasts\, families\, hobbyists\, and adventure seekers for an unforgettable weekend of activities\, exhibits\, and entertainment.</p>\n\n<p>RecX is currently seeking <strong>exhibitors</strong> to showcase their products and services to a wide audience. If you&rsquo\;re interested in being part of the action\, view the <a href="https://recxoutdoors.com/?page_id=216" rel="noopener" target="_new">Exhibitor Guide &amp\; Contract</a>. If you are interested in becoming a sponsor\, please contact us at recx@recxoutdoors.com.&nbsp\;</p>\n\n<p>There are also <strong>sponsorship opportunities</strong> available for businesses looking to increase visibility and connect with attendees in a meaningful way. Explore the <a href="https://recxoutdoors.com/?page_id=291" rel="noopener" target="_new">2026 Sponsorship Packet</a> to find the level that&rsquo\;s right for you.</p>\n\n<p>Don&rsquo\;t miss your chance to be part of this premier outdoor event!</p>\n
LOCATION:Spencefield
UID:e.570.13391
SEQUENCE:3
DTSTAMP:20260423T191452Z
URL:https://business.moultriechamber.com/events/details/recx-outdoor-recreational-expo-13391
END:VEVENT

END:VCALENDAR
