BEGIN:VCALENDAR
VERSION:2.0
PRODID:-//ChamberMaster//Event Calendar 2.0//EN
METHOD:PUBLISH
X-PUBLISHED-TTL:P3D
REFRESH-INTERVAL:P3D
CALSCALE:GREGORIAN
BEGIN:VEVENT
DTSTART:20250617T160000Z
DTEND:20250617T173000Z
X-MICROSOFT-CDO-ALLDAYEVENT:FALSE
SUMMARY:Quarterly Membership Luncheon - Coach Sean Calhoun
DESCRIPTION:We will be hosting our Quarterly Membership Luncheon\, featuring guest speaker Coach Sean Calhoun\, head football coach of the Colquitt County Packers!\n\nWe're excited to welcome Coach Sean Calhoun as our guest speaker. He'll be sharing exclusive insights into the upcoming football season and what fans can look forward to! \n\nCost: $15 per person | Lunch will be catered by Gay's Food! \n\n\n\n  Tuesday\, June 17th | 12:00 PM\n\n\n\nMulkey - Ndawula Event Center | 912 1st Avenue SE\, Moultrie \n\n\n\nSouthwest Georgia Community Action Council \n\n\n\nDon't miss this great opportunity to connect\, enjoy a delicious meal\, and get the inside scoop on Packer football!
X-ALT-DESC;FMTTYPE=text/html:<div data-block="true" data-editor="93snb" data-offset-key="ei3lv-0-0" style="font-family: -apple-system\, BlinkMacSystemFont\, &quot\;Segoe UI&quot\;\, Roboto\, Helvetica\, Arial\, sans-serif\, &quot\;Apple Color Emoji&quot\;\, &quot\;Segoe UI Emoji&quot\;\, &quot\;Segoe UI Symbol&quot\;\; color: rgb(28\, 43\, 51)\; font-size: 14px\; white-space-collapse: preserve\;">\n<div class="_1mf _1mj" data-offset-key="ei3lv-0-0" style="position: relative\; direction: ltr\; font-family: inherit\;"><span style="font-size:16px\;"><span data-offset-key="ei3lv-0-0" style="font-family: inherit\;"><span style="font-family:tahoma\;"><span style="font-family:arial\;">We will be hosting our Quarterly Membership Luncheon\, featuring guest speaker <strong>Coach Sean Calhoun\, head football coach of the Colquitt County Packers!</strong></span><br />\n<span style="font-family:arial\;">We&#39\;re excited to welcome Coach Sean Calhoun as our guest speaker. He&#39\;ll be sharing exclusive insights into the upcoming football season and what fans can look forward to! </span></span></span></span><br />\n<span style="font-family:arial\;"><span style="font-size:16px\;"><span data-offset-key="5a9ih-0-0">Cost: <u>$15 per person</u> | Lunch will be catered by Gay&rsquo\;s Food! </span></span></span></div>\n</div>\n\n<div data-block="true" data-editor="93snb" data-offset-key="88e4v-0-0" style="font-family: -apple-system\, BlinkMacSystemFont\, &quot\;Segoe UI&quot\;\, Roboto\, Helvetica\, Arial\, sans-serif\, &quot\;Apple Color Emoji&quot\;\, &quot\;Segoe UI Emoji&quot\;\, &quot\;Segoe UI Symbol&quot\;\; color: rgb(28\, 43\, 51)\; font-size: 14px\; white-space-collapse: preserve\;">\n<div class="_1mf _1mj" data-offset-key="88e4v-0-0" style="position: relative\; direction: ltr\; font-family: inherit\;"><span style="font-family:arial\;"><span style="font-size:16px\;"><span data-offset-key="88e4v-0-0">&#128205\; Tuesday\, June 17th | 12:00 PM</span></span></span></div>\n</div>\n\n<div data-block="true" data-editor="93snb" data-offset-key="e6pq6-0-0" style="font-family: -apple-system\, BlinkMacSystemFont\, &quot\;Segoe UI&quot\;\, Roboto\, Helvetica\, Arial\, sans-serif\, &quot\;Apple Color Emoji&quot\;\, &quot\;Segoe UI Emoji&quot\;\, &quot\;Segoe UI Symbol&quot\;\; color: rgb(28\, 43\, 51)\; font-size: 14px\; white-space-collapse: preserve\;">\n<div class="_1mf _1mj" data-offset-key="e6pq6-0-0" style="position: relative\; direction: ltr\; font-family: inherit\;"><span style="font-family:arial\;"><span style="font-size:16px\;"><span data-offset-key="e6pq6-0-0">Mulkey - Ndawula Event Center | 912 1st Avenue SE\, Moultrie </span></span></span></div>\n</div>\n\n<div data-block="true" data-editor="93snb" data-offset-key="4nemf-0-0" style="font-family: -apple-system\, BlinkMacSystemFont\, &quot\;Segoe UI&quot\;\, Roboto\, Helvetica\, Arial\, sans-serif\, &quot\;Apple Color Emoji&quot\;\, &quot\;Segoe UI Emoji&quot\;\, &quot\;Segoe UI Symbol&quot\;\; color: rgb(28\, 43\, 51)\; font-size: 14px\; white-space-collapse: preserve\;">\n<div class="_1mf _1mj" data-offset-key="4nemf-0-0" style="position: relative\; direction: ltr\; font-family: inherit\;"><span style="font-family:arial\;"><span style="font-size:16px\;"><span data-offset-key="4nemf-0-0">Southwest Georgia Community Action Council </span></span></span></div>\n</div>\n\n<div data-block="true" data-editor="93snb" data-offset-key="1tu8f-0-0" style="font-family: -apple-system\, BlinkMacSystemFont\, &quot\;Segoe UI&quot\;\, Roboto\, Helvetica\, Arial\, sans-serif\, &quot\;Apple Color Emoji&quot\;\, &quot\;Segoe UI Emoji&quot\;\, &quot\;Segoe UI Symbol&quot\;\; color: rgb(28\, 43\, 51)\; font-size: 14px\; white-space-collapse: preserve\;">\n<div class="_1mf _1mj" data-offset-key="1tu8f-0-0" style="position: relative\; direction: ltr\; font-family: inherit\;"><span style="font-family:arial\;"><strong><span style="font-size:16px\;"><span data-offset-key="73utv-0-0">Don&rsquo\;t miss this great opportunity to connect\, enjoy a delicious meal\, and get the inside scoop on Packer football!</span></span></strong></span></div>\n</div>\n
LOCATION:Mulkey - Ndawula Event Center | 912 1st Ave SE\, Moultrie Southwest Georgia Community Action Council
UID:e.570.13352
SEQUENCE:3
DTSTAMP:20260423T110645Z
URL:https://business.moultriechamber.com/events/details/quarterly-membership-luncheon-coach-sean-calhoun-13352
END:VEVENT

END:VCALENDAR
