BEGIN:VCALENDAR
VERSION:2.0
PRODID:-//ChamberMaster//Event Calendar 2.0//EN
METHOD:PUBLISH
X-PUBLISHED-TTL:P3D
REFRESH-INTERVAL:P3D
CALSCALE:GREGORIAN
BEGIN:VEVENT
DTSTART:20250909T190000Z
DTEND:20250909T220000Z
X-MICROSOFT-CDO-ALLDAYEVENT:FALSE
SUMMARY:Quality Employment Service Community Job Fair
DESCRIPTION:Join us for the Community Job Fair on Tuesday\, September 9\, 2025\, from 3:00 PM   6:00 PM at Southern Regional Technical College\, 800 Veterans Parkway North\, Moultrie\, GA. This event\, hosted by Quality Employment Service\, is open to job seekers and employers alike. It's a great opportunity to connect with local businesses\, explore career options\, and discover new employment opportunities.
X-ALT-DESC;FMTTYPE=text/html:<br />\n<span style="font-size:18px\;">Join us for the <em data-end="135" data-start="115">Community Job Fair</em> on <strong data-end="169" data-start="139">Tuesday\, September 9\, 2025</strong>\, from <strong data-end="197" data-start="176">3:00 PM &ndash\; 6:00 PM</strong> at <strong data-end="282" data-is-only-node="" data-start="201">Southern Regional Technical College\, 800 Veterans Parkway North\, Moultrie\, GA</strong>. This event\, hosted by Quality Employment Service\, is open to job seekers and employers alike. It&rsquo\;s a great opportunity to connect with local businesses\, explore career options\, and discover new employment opportunities.</span>
LOCATION:Southern Regional Technical College 800 Veterans Parkway N Moultrie
UID:e.570.13395
SEQUENCE:3
DTSTAMP:20260423T141637Z
URL:https://business.moultriechamber.com/events/details/quality-employment-service-community-job-fair-13395
END:VEVENT

END:VCALENDAR
