BEGIN:VCALENDAR
VERSION:2.0
PRODID:-//ChamberMaster//Event Calendar 2.0//EN
METHOD:PUBLISH
X-PUBLISHED-TTL:P3D
REFRESH-INTERVAL:P3D
CALSCALE:GREGORIAN
BEGIN:VEVENT
DTSTART:20250412T140000Z
DTEND:20250412T160000Z
X-MICROSOFT-CDO-ALLDAYEVENT:FALSE
SUMMARY:PruittHealth - Moultrie Easter Egg Hunt
DESCRIPTION:Join us for an Easter Egg Hunt\, Bake sale\, and pictures with the easter bunny!
X-ALT-DESC;FMTTYPE=text/html:Join us for an Easter Egg Hunt\, Bake sale\, and pictures with the easter bunny!&nbsp\;
LOCATION:233 Sunset Circle Moutlrie\, GA
UID:e.570.13348
SEQUENCE:3
DTSTAMP:20260423T174750Z
URL:https://business.moultriechamber.com/events/details/pruitthealth-moultrie-easter-egg-hunt-13348
END:VEVENT

END:VCALENDAR
