BEGIN:VCALENDAR
VERSION:2.0
PRODID:-//ChamberMaster//Event Calendar 2.0//EN
METHOD:PUBLISH
X-PUBLISHED-TTL:P3D
REFRESH-INTERVAL:P3D
CALSCALE:GREGORIAN
BEGIN:VEVENT
DTSTART:20250724T210000Z
DTEND:20250724T230000Z
X-MICROSOFT-CDO-ALLDAYEVENT:FALSE
SUMMARY:Pruitt Health Sunrise - BINGO Community Event
DESCRIPTION:Join us for an exciting evening of fun\, Bingo\, and community spirit at our Pruitt Health BINGO Community Event!
X-ALT-DESC;FMTTYPE=text/html:Join us for an exciting evening of fun\, Bingo\, and community spirit at our&nbsp\;<strong data-end="293" data-start="255">Pruitt Health BINGO Community Event</strong>!
LOCATION:Pruitt Health Sunrise 2709 S Main Street Moultrie\, GA 31768
UID:e.570.13378
SEQUENCE:3
DTSTAMP:20260423T123101Z
URL:https://business.moultriechamber.com/events/details/pruitt-health-sunrise-bingo-community-event-13378
END:VEVENT

END:VCALENDAR
