BEGIN:VCALENDAR
VERSION:2.0
PRODID:-//ChamberMaster//Event Calendar 2.0//EN
METHOD:PUBLISH
X-PUBLISHED-TTL:P3D
REFRESH-INTERVAL:P3D
CALSCALE:GREGORIAN
BEGIN:VEVENT
DTSTART:20250531T000000Z
DTEND:20250531T000000Z
X-MICROSOFT-CDO-ALLDAYEVENT:FALSE
SUMMARY:Pruitt Health Magnolia Manor - Community movie night
DESCRIPTION:Join us for a fun-filled Community Movie Night on Thursday\, May 30th at 8:00 PM at Pruitt Health   Magnolia Manor! Bring your family\, friends\, and lawn chairs as we enjoy a great movie under the stars. Refreshments will be provided. We look forward to seeing you there!
X-ALT-DESC;FMTTYPE=text/html:<span style="font-size:12px\;">Join us for a fun-filled <strong data-end="169" data-start="144">Community Movie Night</strong> on <strong data-end="206" data-start="173">Thursday\, May 30th at 8:00 PM</strong> at <strong data-end="243" data-is-only-node="" data-start="210">Pruitt Health &ndash\; Magnolia Manor</strong>! Bring your family\, friends\, and lawn chairs as we enjoy a great movie under the stars. Refreshments will be provided. We look forward to seeing you there!</span>
LOCATION:Pruitt Health Magnolia Manor 3003 Veterans Parkway South Moultrie\, GA 31788
UID:e.570.13357
SEQUENCE:3
DTSTAMP:20260423T163315Z
URL:https://business.moultriechamber.com/events/details/pruitt-health-magnolia-manor-community-movie-night-13357
END:VEVENT

END:VCALENDAR
