BEGIN:VCALENDAR
VERSION:2.0
PRODID:-//ChamberMaster//Event Calendar 2.0//EN
METHOD:PUBLISH
X-PUBLISHED-TTL:P3D
REFRESH-INTERVAL:P3D
CALSCALE:GREGORIAN
BEGIN:VEVENT
DTSTART:20250725T183000Z
DTEND:20250725T203000Z
X-MICROSOFT-CDO-ALLDAYEVENT:FALSE
SUMMARY:Pruitt Health- Fishing Rodeo
DESCRIPTION:Cast your line and reel in the fun at the Fishing Rodeo hosted by Pruitt Health Magnolia Manor! This family-friendly event promises an afternoon of fishing\, tasty treats\, and outdoor enjoyment for the whole community.
X-ALT-DESC;FMTTYPE=text/html:Cast your line and reel in the fun at the <strong data-end="242" data-start="225">Fishing Rodeo</strong> hosted by <strong data-end="284" data-start="253">Pruitt Health Magnolia Manor</strong>! This family-friendly event promises an afternoon of fishing\, tasty treats\, and outdoor enjoyment for the whole community.
LOCATION:Pruitt Health Magnolia Manor\, 3003 Veterans Pkwy S.\, Moultrie\, GA
UID:e.570.13379
SEQUENCE:3
DTSTAMP:20260423T123155Z
URL:https://business.moultriechamber.com/events/details/pruitt-health-fishing-rodeo-13379
END:VEVENT

END:VCALENDAR
