BEGIN:VCALENDAR
VERSION:2.0
PRODID:-//ChamberMaster//Event Calendar 2.0//EN
METHOD:PUBLISH
X-PUBLISHED-TTL:P3D
REFRESH-INTERVAL:P3D
CALSCALE:GREGORIAN
BEGIN:VEVENT
DTSTART:20240426T130000Z
DTEND:20240426T150000Z
X-MICROSOFT-CDO-ALLDAYEVENT:FALSE
SUMMARY:Project Purpose Exploration Day - Career Fair
DESCRIPTION:On Exploration Day\, local businesses and high school seniors unite. In a job fair format\, Colquitt County High School students circulate through the employer showcase to learn about the jobs available right now in our community.
X-ALT-DESC;FMTTYPE=text/html:<span style="font-family:times new roman\;"><span style="font-size: 14px\;">On Exploration Day\, local businesses and high school seniors unite. In a job fair format\, Colquitt County High School students circulate through the employer showcase to learn about the jobs available right now&nbsp\;in our community.</span></span>
LOCATION:Colquitt County High School Gym 105 Darbyshire Road\, Norman Park
UID:e.570.13227
SEQUENCE:3
DTSTAMP:20260424T083804Z
URL:https://business.moultriechamber.com/events/details/project-purpose-exploration-day-career-fair-13227
END:VEVENT

END:VCALENDAR
