BEGIN:VCALENDAR
VERSION:2.0
PRODID:-//ChamberMaster//Event Calendar 2.0//EN
METHOD:PUBLISH
X-PUBLISHED-TTL:P3D
REFRESH-INTERVAL:P3D
CALSCALE:GREGORIAN
BEGIN:VEVENT
DTSTART:20230428T130000Z
DTEND:20230428T150000Z
X-MICROSOFT-CDO-ALLDAYEVENT:FALSE
SUMMARY:Project Purpose Exploration Day
DESCRIPTION:Project Purpose is a partnership between the Chamber\, MCC Development Authority\, Colquitt County School District\, and Southern Regional Technical College. On Friday\, April 28th\, an Exploration - Career Fair Day will be held at CCHS with the focus of connecting high school seniors with no confirmed plan past graduation with career opportunities in our community. Students should come prepared to complete applications and potentially interview for current positions. Local businesses interested in participating should contact Caitlyn Hatcher at chatcher@moultriechamber.com. Project Purpose is one component of the Chamber's workforce initiative.
X-ALT-DESC;FMTTYPE=text/html:Project Purpose is a partnership between the Chamber\, MCC Development Authority\, Colquitt County School District\, and Southern Regional Technical College. On Friday\, April 28th\, an Exploration - Career Fair Day will be held at CCHS with the focus of connecting high school seniors with no confirmed plan past graduation with career opportunities in our community. Students should come prepared to complete applications and potentially interview for current positions. Local businesses interested in participating should contact Caitlyn Hatcher at chatcher@moultriechamber.com. Project Purpose is one component of the Chamber&#39\;s workforce initiative.
LOCATION:CCHS Gym
UID:e.570.13051
SEQUENCE:3
DTSTAMP:20260424T233409Z
URL:https://business.moultriechamber.com/events/details/project-purpose-exploration-day-13051
END:VEVENT

END:VCALENDAR
