BEGIN:VCALENDAR
VERSION:2.0
PRODID:-//ChamberMaster//Event Calendar 2.0//EN
METHOD:PUBLISH
X-PUBLISHED-TTL:P3D
REFRESH-INTERVAL:P3D
CALSCALE:GREGORIAN
BEGIN:VEVENT
DTSTART:20230203T153000Z
DTEND:20230203T160000Z
X-MICROSOFT-CDO-ALLDAYEVENT:FALSE
SUMMARY:Preschool Storytime
DESCRIPTION:Preschool STARS (Sing\, Talk\, and Read for Success) Learning to read doesn't start with flashcards--it starts with simple and fun daily interactions between the child and caring adults. STARS stands for "Sing\, Talk\, and Read for Success." Preschool STARS incorporates books\, songs\, activities\, and playtime into a weekly routine you and your child won't want to miss!
X-ALT-DESC;FMTTYPE=text/html:Preschool STARS (Sing\, Talk\, and Read for Success) Learning to read doesn&#39\;t start with flashcards--it starts with simple and fun daily interactions between the child and caring adults. STARS stands for &quot\;Sing\, Talk\, and Read for Success.&quot\; Preschool STARS incorporates books\, songs\, activities\, and playtime into a weekly routine you and your child won&#39\;t want to miss!
LOCATION:Moultrie-Colquitt County Library 204 5th St. SE\, Moultrie\, GA
UID:e.570.13040
SEQUENCE:3
DTSTAMP:20260425T021552Z
URL:https://business.moultriechamber.com/events/details/preschool-storytime-13040
END:VEVENT

END:VCALENDAR
