BEGIN:VCALENDAR
VERSION:2.0
PRODID:-//ChamberMaster//Event Calendar 2.0//EN
METHOD:PUBLISH
X-PUBLISHED-TTL:P3D
REFRESH-INTERVAL:P3D
CALSCALE:GREGORIAN
BEGIN:VEVENT
DTSTART:20260803T220000Z
DTEND:20260803T230000Z
X-MICROSOFT-CDO-ALLDAYEVENT:FALSE
SUMMARY:Pregnancy & Infant Loss Support Group
DESCRIPTION:Available for anyone in the community who has walked through losing a pregnancy or an infant at any stage.
X-ALT-DESC;FMTTYPE=text/html:<br />\n<span style="font-size:16px\;">Available for anyone in the community who has walked through losing a pregnancy or an infant at any stage.</span>
LOCATION:Hope House Women's Clinic
UID:e.570.13541
SEQUENCE:3
DTSTAMP:20260423T225229Z
URL:https://business.moultriechamber.com/events/details/pregnancy-infant-loss-support-group-08-03-2026-13541
END:VEVENT

END:VCALENDAR
