BEGIN:VCALENDAR
VERSION:2.0
PRODID:-//ChamberMaster//Event Calendar 2.0//EN
METHOD:PUBLISH
X-PUBLISHED-TTL:P3D
REFRESH-INTERVAL:P3D
CALSCALE:GREGORIAN
BEGIN:VEVENT
DTSTART:20250201T150000Z
DTEND:20250201T170000Z
X-MICROSOFT-CDO-ALLDAYEVENT:FALSE
SUMMARY:Power Wheels Derby at MCCPRA
DESCRIPTION:Got a new set of Power Wheels for Christmas? Let's put them to the test! Join us for the Power Wheels Derby at the Jim Buck Goff Complex on Saturday\, February 1st.\n\nWho Can Enter? Kids ages 2-7 ready to cruise\, race\, and have a blast!\n\nWhat to Expect:\n\nA fun driving test to get their official driver's license \n\nA thrilling race to the finish line in their Power Wheels \n\nSmiles\, cheers\, and memories to last all year!
X-ALT-DESC;FMTTYPE=text/html:<div class="x11i5rnm xat24cr x1mh8g0r x1vvkbs xtlvy1s" style="margin: 0.5em 0px 0px\; overflow-wrap: break-word\; font-family: &quot\;Segoe UI Historic&quot\;\, &quot\;Segoe UI&quot\;\, Helvetica\, Arial\, sans-serif\; color: rgb(8\, 8\, 9)\; font-size: 15px\;"><span style="font-size:14px\;"><span style="color: rgb(8\, 8\, 9)\; font-family: &quot\;Segoe UI Historic&quot\;\, &quot\;Segoe UI&quot\;\, Helvetica\, Arial\, sans-serif\;">Got a new set of Power Wheels for Christmas? Let&rsquo\;s put them to the test! Join us for the Power Wheels Derby at the Jim Buck Goff Complex on Saturday\, February 1st.<br />\nWho Can Enter?&nbsp\;Kids ages 2-7 ready to cruise\, race\, and have a blast!<br />\nWhat to Expect:<br />\nA fun driving test to get their official driver&rsquo\;s license&nbsp\;</span><br />\n<span style="color: rgb(8\, 8\, 9)\; font-family: &quot\;Segoe UI Historic&quot\;\, &quot\;Segoe UI&quot\;\, Helvetica\, Arial\, sans-serif\;">A thrilling race to the finish line in their Power Wheels&nbsp\;</span></span><br />\n<span style="color: rgb(8\, 8\, 9)\; font-family: &quot\;Segoe UI Historic&quot\;\, &quot\;Segoe UI&quot\;\, Helvetica\, Arial\, sans-serif\; font-size: 15px\;"><span style="font-size:14px\;">Smiles\, cheers\, and memories to last all year!</span></span></div>\n
LOCATION:Jim Buck Goff Complex
UID:e.570.13329
SEQUENCE:3
DTSTAMP:20260423T202954Z
URL:https://business.moultriechamber.com/events/details/power-wheels-derby-at-mccpra-13329
END:VEVENT

END:VCALENDAR
