BEGIN:VCALENDAR
VERSION:2.0
PRODID:-//ChamberMaster//Event Calendar 2.0//EN
METHOD:PUBLISH
X-PUBLISHED-TTL:P3D
REFRESH-INTERVAL:P3D
CALSCALE:GREGORIAN
BEGIN:VEVENT
DTSTART;VALUE=DATE:20230601
DTEND;VALUE=DATE:20230801
TRANSP:TRANSPARENT
X-MICROSOFT-CDO-ALLDAYEVENT:TRUE
SUMMARY:Pools open for public Hours
DESCRIPTION:NW POOL & Kiddie Pool: OPEN: 06/01/23 THURSDAY-SUNDAY 1-5PM ADULTS $3 KIDS $2 SW MEMORIAL POOL OPENS: 06/05/23 Monday-Wednesday 1:00-5:00PM ADULTS $3 KIDS $2 SPLASH PAD: June & July 7 days a week 1:00pm-5:00PM ADULTS $3 KIDS $2 Free to all season pass holders!
X-ALT-DESC;FMTTYPE=text/html:NW POOL &amp\; Kiddie Pool: OPEN: 06/01/23 THURSDAY-SUNDAY 1-5PM ADULTS $3 KIDS $2 SW MEMORIAL POOL OPENS: 06/05/23 Monday-Wednesday 1:00-5:00PM ADULTS $3 KIDS $2 SPLASH PAD: June &amp\; July 7 days a week 1:00pm-5:00PM ADULTS $3 KIDS $2 Free to all season pass holders!
LOCATION:ALL MCCPRA POOLS
UID:e.570.13153
SEQUENCE:3
DTSTAMP:20260424T193602Z
URL:https://business.moultriechamber.com/events/details/pools-open-for-public-hours-13153
END:VEVENT

END:VCALENDAR
