BEGIN:VCALENDAR
VERSION:2.0
PRODID:-//ChamberMaster//Event Calendar 2.0//EN
METHOD:PUBLISH
X-PUBLISHED-TTL:P3D
REFRESH-INTERVAL:P3D
CALSCALE:GREGORIAN
BEGIN:VEVENT
DTSTART:20251002T220000Z
DTEND:20251003T000000Z
X-MICROSOFT-CDO-ALLDAYEVENT:FALSE
SUMMARY:Pink Out the Night – Breast Cancer Awareness Event
DESCRIPTION:The Colquitt Regional Medical Foundation and the Downtown Moultrie Association invite you to Pink Out the Night on Thursday\, October 2\, 2025\, from 6:00 p.m. to 8:00 p.m. in Downtown Moultrie on The Square.\n\nPut on your pink and join the community for a night of fun as we raise awareness for breast cancer. The evening will feature a fun walk\, games\, bounce houses\, giveaways\, and educational resources for the whole family.
X-ALT-DESC;FMTTYPE=text/html:<p data-end="365" data-start="152"><br />\n<span style="font-size:18px\;">The Colquitt Regional Medical Foundation and the Downtown Moultrie Association invite you to <em data-end="265" data-start="245">Pink Out the Night</em> on <strong data-end="327" data-start="269">Thursday\, October 2\, 2025\, from 6:00 p.m. to 8:00 p.m.</strong> in Downtown Moultrie on The Square.</span></p>\n\n<p data-end="590" data-start="367"><span style="font-size:18px\;">Put on your pink and join the community for a night of fun as we raise awareness for breast cancer. The evening will feature a <strong data-end="566" data-start="494">fun walk\, games\, bounce houses\, giveaways\, and educational resources</strong> for the whole family.</span></p>\n
LOCATION:Downtown Moultrie on The Square
UID:e.570.13412
SEQUENCE:3
DTSTAMP:20260423T163056Z
URL:https://business.moultriechamber.com/events/details/pink-out-the-night-breast-cancer-awareness-event-13412
END:VEVENT

END:VCALENDAR
