BEGIN:VCALENDAR
VERSION:2.0
PRODID:-//ChamberMaster//Event Calendar 2.0//EN
METHOD:PUBLISH
X-PUBLISHED-TTL:P3D
REFRESH-INTERVAL:P3D
CALSCALE:GREGORIAN
BEGIN:VEVENT
DTSTART:20240117T150000Z
DTEND:20240117T170000Z
X-MICROSOFT-CDO-ALLDAYEVENT:FALSE
SUMMARY:Pickle Ball
DESCRIPTION:PICKLE BALL indoors because- baby its cold outside!! Join us on Wednesday\, 17th at 10 AM at the Tommy Meredith Gym. Open to seasoned players and those who want to learn how to play. Come and try your skills at Pickle Ball!!
X-ALT-DESC;FMTTYPE=text/html:PICKLE BALL indoors because- baby its cold outside!! Join us on Wednesday\, 17th at 10 AM at the Tommy Meredith Gym. Open to seasoned players and those who want to learn how to play. Come and try your skills at Pickle Ball!!
LOCATION:Tommy Meredith Gym
UID:e.570.13243
SEQUENCE:3
DTSTAMP:20260424T122343Z
URL:https://business.moultriechamber.com/events/details/pickle-ball-13243
END:VEVENT

END:VCALENDAR
