BEGIN:VCALENDAR
VERSION:2.0
PRODID:-//ChamberMaster//Event Calendar 2.0//EN
METHOD:PUBLISH
X-PUBLISHED-TTL:P3D
REFRESH-INTERVAL:P3D
CALSCALE:GREGORIAN
BEGIN:VEVENT
DTSTART:20251108T150000Z
DTEND:20251108T190000Z
X-MICROSOFT-CDO-ALLDAYEVENT:FALSE
SUMMARY:Photos with Santa
DESCRIPTION:Get into the holiday spirit with Photos with Santa in Downtown Moultrie! Families are invited to stop by for a free photo with Santa and enjoy a festive morning in the heart of downtown.\n\nThis event is sponsored by Whitney Smith State Farm\, and each family will receive a free gift while supplies last.\n\nBring your smiles\, your holiday cheer\, and create special memories to kick off the season!
X-ALT-DESC;FMTTYPE=text/html:<p data-end="519" data-start="327">&nbsp\;</p>\n\n<p data-end="428" data-start="240"><span style="font-size:16px\;">Get into the holiday spirit with Photos with Santa in Downtown Moultrie! Families are invited to stop by for a free photo with Santa and enjoy a festive morning in the heart of downtown.</span></p>\n\n<p data-end="546" data-start="430"><span style="font-size:16px\;">This event is sponsored by Whitney Smith State Farm\, and each family will receive a free gift while supplies last.</span></p>\n\n<p data-end="640" data-start="548"><span style="font-size:16px\;">Bring your smiles\, your holiday cheer\, and create special memories to kick off the season!</span></p>\n
LOCATION:6 S. Main Street\, Downtown Moultrie
UID:e.570.13465
SEQUENCE:3
DTSTAMP:20260423T162631Z
URL:https://business.moultriechamber.com/events/details/photos-with-santa-13465
END:VEVENT

END:VCALENDAR
