BEGIN:VCALENDAR
VERSION:2.0
PRODID:-//ChamberMaster//Event Calendar 2.0//EN
METHOD:PUBLISH
X-PUBLISHED-TTL:P3D
REFRESH-INTERVAL:P3D
CALSCALE:GREGORIAN
BEGIN:VEVENT
DTSTART;VALUE=DATE:20230613
DTEND;VALUE=DATE:20230614
TRANSP:TRANSPARENT
X-MICROSOFT-CDO-ALLDAYEVENT:TRUE
SUMMARY:Pete The cat at Main Street Park
DESCRIPTION:Pete The cat June 13 10am and 6pm Main Street Park
X-ALT-DESC;FMTTYPE=text/html:Pete The cat June 13 10am and 6pm Main Street Park
LOCATION:Main Street Park
UID:e.570.13159
SEQUENCE:3
DTSTAMP:20260424T211004Z
URL:https://business.moultriechamber.com/events/details/pete-the-cat-at-main-street-park-13159
END:VEVENT

END:VCALENDAR
