BEGIN:VCALENDAR
VERSION:2.0
PRODID:-//ChamberMaster//Event Calendar 2.0//EN
METHOD:PUBLISH
X-PUBLISHED-TTL:P3D
REFRESH-INTERVAL:P3D
CALSCALE:GREGORIAN
BEGIN:VEVENT
DTSTART:20250301T130000Z
DTEND:20250301T160000Z
X-MICROSOFT-CDO-ALLDAYEVENT:FALSE
SUMMARY:Pancake Breakfast Fundraiser - Boys & Girls Club Colquitt County
DESCRIPTION:Guess what's back? Our Annual Boys & Girls Club Pancake Breakfast Fundraiser! It's happening on Saturday\, March 1\, 2025\, from 8 AM to 11 AM. For just $10.00\, you can join us for a delicious breakfast and support a great cause. All funds raised will go toward scholarships for our youth to participate in field trips and after-school mentorship programs. Just swing by the club to purchase your tickets at 420 West Central Ave\, Moultrie\, GA 31768. We hope to see you soon!
X-ALT-DESC;FMTTYPE=text/html:<span style="font-family:arial\;"><span style="font-size:14px\;"><span style="color: rgb(8\, 8\, 9)\;">Guess what&#39\;s back? Our Annual Boys &amp\; Girls Club Pancake Breakfast Fundraiser! It&#39\;s happening on Saturday\, March 1\, 2025\, from 8 AM to 11 AM.&nbsp\;</span><span style="color: rgb(8\, 8\, 9)\;">For just $10.00\, you can join us for a delicious breakfast and support a great cause.</span><span style="color: rgb(8\, 8\, 9)\;"> </span><span style="color: rgb(0\, 0\, 0)\; white-space-collapse: preserve\;">All funds raised will go toward scholarships for our youth to participate in field trips and after-school mentorship programs. </span><span style="color: rgb(8\, 8\, 9)\;">Just swing by the club to purchase your tickets at 420 West Central Ave\, Moultrie\, GA 31768. We hope to see you soon!</span></span></span>
LOCATION:
UID:e.570.13337
SEQUENCE:3
DTSTAMP:20260423T191738Z
URL:https://business.moultriechamber.com/events/details/pancake-breakfast-fundraiser-boys-girls-club-colquitt-county-13337
END:VEVENT

END:VCALENDAR
