BEGIN:VCALENDAR
VERSION:2.0
PRODID:-//ChamberMaster//Event Calendar 2.0//EN
METHOD:PUBLISH
X-PUBLISHED-TTL:P3D
REFRESH-INTERVAL:P3D
CALSCALE:GREGORIAN
BEGIN:VEVENT
DTSTART;VALUE=DATE:20251023
DTEND;VALUE=DATE:20251024
TRANSP:TRANSPARENT
X-MICROSOFT-CDO-ALLDAYEVENT:TRUE
SUMMARY:Paint the Town Purple - Serenity House
DESCRIPTION:This October\, join us in recognizing Domestic Violence Awareness Month by participating in Paint the Town Purple 2025. Local businesses and community members are encouraged to show their support and help raise awareness about domestic violence throughout the month.\n\nWays to get involved:\n\n\n	\n	Decorate your storefront purple or display a purple bow\n	\n	\n	Wear Purple Day: Thursday\, October 23rd\n	\n	\n	Offer purple-themed products in your business\n	\n	\n	Display awareness posters\n	\n\n\nAny business that participates will receive free T-shirts for employees and will be featured on social media to highlight their support.\n\n\n\nLet's stand together as a community to raise awareness and show survivors that they are not alone.
X-ALT-DESC;FMTTYPE=text/html:<p data-end="376" data-start="79"><br />\n<span style="font-size:18px\;">This October\, join us in recognizing <em data-end="175" data-start="140">Domestic Violence Awareness Month</em> by participating in <strong data-end="226" data-start="196">Paint the Town Purple 2025</strong>. Local businesses and community members are encouraged to show their support and help raise awareness about domestic violence throughout the month.</span></p>\n\n<p data-end="401" data-start="378"><span style="font-size:18px\;">Ways to get involved:</span></p>\n\n<ul data-end="601" data-start="402">\n	<li data-end="465" data-start="402">\n	<p data-end="465" data-start="404"><span style="font-size:18px\;"><strong data-end="439" data-start="404">Decorate your storefront purple</strong> or display a purple bow</span></p>\n	</li>\n	<li data-end="513" data-start="466">\n	<p data-end="513" data-start="468"><span style="font-size:18px\;"><strong data-end="488" data-start="468">Wear Purple Day:</strong> Thursday\, October 23rd</span></p>\n	</li>\n	<li data-end="567" data-start="514">\n	<p data-end="567" data-start="516"><span style="font-size:18px\;"><strong data-end="548" data-start="516">Offer purple-themed products</strong> in your business</span></p>\n	</li>\n	<li data-end="601" data-start="568">\n	<p data-end="601" data-start="570"><span style="font-size:18px\;"><strong data-end="599" data-start="570">Display awareness posters</strong></span></p>\n	</li>\n</ul>\n\n<p data-end="745" data-start="603"><span style="font-size:18px\;">Any business that participates will receive <strong data-end="678" data-start="647">free T-shirts for employees</strong> and will be featured on social media to highlight their support.<br />\n<br />\nLet&rsquo\;s stand together as a community to raise awareness and show survivors that they are not alone. &#128156\;</span></p>\n
LOCATION:
UID:e.570.13407
SEQUENCE:3
DTSTAMP:20260423T162932Z
URL:https://business.moultriechamber.com/events/details/paint-the-town-purple-serenity-house-13407
END:VEVENT

END:VCALENDAR
