BEGIN:VCALENDAR
VERSION:2.0
PRODID:-//ChamberMaster//Event Calendar 2.0//EN
METHOD:PUBLISH
X-PUBLISHED-TTL:P3D
REFRESH-INTERVAL:P3D
CALSCALE:GREGORIAN
BEGIN:VEVENT
DTSTART:20230908T130000Z
DTEND:20230908T150000Z
X-MICROSOFT-CDO-ALLDAYEVENT:FALSE
SUMMARY:Outreach Family Worship Centre Food Bank
DESCRIPTION:Outreach Family Worship Centre would like to welcome everyone to our food pantry for the community. Feeding God's people in flesh and spirit.
X-ALT-DESC;FMTTYPE=text/html:Outreach Family Worship Centre would like to welcome everyone to our food pantry for the community. Feeding God&#39\;s people in flesh and spirit.
LOCATION:401 2nd Ave NW Moultrie\, GA 31768
UID:e.570.13187
SEQUENCE:3
DTSTAMP:20260424T184415Z
URL:https://business.moultriechamber.com/events/details/outreach-family-worship-centre-food-bank-09-08-2023-13187
END:VEVENT

END:VCALENDAR
