BEGIN:VCALENDAR
VERSION:2.0
PRODID:-//ChamberMaster//Event Calendar 2.0//EN
METHOD:PUBLISH
X-PUBLISHED-TTL:P3D
REFRESH-INTERVAL:P3D
CALSCALE:GREGORIAN
BEGIN:VEVENT
DTSTART;VALUE=DATE:20231216
DTEND;VALUE=DATE:20231217
TRANSP:TRANSPARENT
X-MICROSOFT-CDO-ALLDAYEVENT:TRUE
SUMMARY:National Wreaths Across America Day
DESCRIPTION:Cobb Funeral Home Garden of Valor\, 2441 Camilla Hwy\, Moultrie\; Following a moving Wreath Laying Ceremony\, join volunteers to lay over 700 wreaths on the graves of veterans in the Garden of Valor and other cemeteries in the area.
X-ALT-DESC;FMTTYPE=text/html:Cobb Funeral Home Garden of Valor\, 2441 Camilla Hwy\, Moultrie\; Following a moving Wreath Laying Ceremony\, join volunteers to lay over 700 wreaths on the graves of veterans in the Garden of Valor and other cemeteries in the area.
LOCATION:Cobb Funeral Home Garden of Valor\, 2441 Camilla Hwy\, Moultrie
UID:e.570.13179
SEQUENCE:3
DTSTAMP:20260424T135230Z
URL:https://business.moultriechamber.com/events/details/national-wreaths-across-america-day-13179
END:VEVENT

END:VCALENDAR
