BEGIN:VCALENDAR
VERSION:2.0
PRODID:-//ChamberMaster//Event Calendar 2.0//EN
METHOD:PUBLISH
X-PUBLISHED-TTL:P3D
REFRESH-INTERVAL:P3D
CALSCALE:GREGORIAN
BEGIN:VEVENT
DTSTART;VALUE=DATE:20230330
DTEND;VALUE=DATE:20230331
TRANSP:TRANSPARENT
X-MICROSOFT-CDO-ALLDAYEVENT:TRUE
SUMMARY:National Doctor's Day - Honor your Doctor!
DESCRIPTION:On March 30th\, Colquitt Regional Medical Center will celebrate National Doctors' Day to honor physicians for their commitment to their profession and our community's health and well-being. You can help us celebrate Doctors' Day by honoring a doctor who has provided you or a loved one with exceptional care! Any size donation is acceptable to honor your Doctor Hero. We do request one donation per doctor\, please. With a $250 gift\, you may honor every active physician on our Medical Staff\, and we will recognize you as a 2022 member of our 1939 Society giving level. All gift amounts are kept confidential and are fully tax-deductible.
X-ALT-DESC;FMTTYPE=text/html:On March 30th\, Colquitt Regional Medical Center will celebrate National Doctors&#39\; Day to honor physicians for their commitment to their profession and our community&#39\;s health and well-being. You can help us celebrate Doctors&#39\; Day by honoring a doctor who has provided you or a loved one with exceptional care! Any size donation is acceptable to honor your Doctor Hero. We do request one donation per doctor\, please. With a $250 gift\, you may honor every active physician on our Medical Staff\, and we will recognize you as a 2022 member of our 1939 Society giving level. All gift amounts are kept confidential and are fully tax-deductible.
LOCATION:Colquitt Regional Medical Center
UID:e.570.13091
SEQUENCE:3
DTSTAMP:20260425T010232Z
URL:https://business.moultriechamber.com/events/details/national-doctor-s-day-honor-your-doctor-13091
END:VEVENT

END:VCALENDAR
