BEGIN:VCALENDAR
VERSION:2.0
PRODID:-//ChamberMaster//Event Calendar 2.0//EN
METHOD:PUBLISH
X-PUBLISHED-TTL:P3D
REFRESH-INTERVAL:P3D
CALSCALE:GREGORIAN
BEGIN:VEVENT
DTSTART:20250122T140000Z
DTEND:20250123T200000Z
X-MICROSOFT-CDO-ALLDAYEVENT:FALSE
SUMMARY:National Day of Hiring
DESCRIPTION:Our event is taking place on Jan 22nd and Jan 23rd from 9a-3pm! We will be offering on the spot interviews as well as conditional job offers for candidates who participate and qualify! We are hiring in the Colquitt county area. We are looking for the best\, most caring\, most qualified people. If you want to be a part of the All Ways Caring team and all of the exciting work we are doing every day\, come join our team. Apply here https://www.allwayscaring.com/careers/
X-ALT-DESC;FMTTYPE=text/html:Our event is taking place on Jan 22nd and Jan 23rd from 9a-3pm! We will be offering on the spot interviews as well as conditional job offers for candidates who participate and qualify! We are hiring in the Colquitt county area. We are looking for the best\, most caring\, most qualified people. If you want to be a part of the All Ways Caring team and all of the exciting work we are doing every day\, come join our team. Apply here https://www.allwayscaring.com/careers/
LOCATION:13881 Hwy 319 N\, Thomasville Ga 31757
UID:e.570.13338
SEQUENCE:3
DTSTAMP:20260423T213842Z
URL:https://business.moultriechamber.com/events/details/national-day-of-hiring-13338
END:VEVENT

END:VCALENDAR
