BEGIN:VCALENDAR
VERSION:2.0
PRODID:-//ChamberMaster//Event Calendar 2.0//EN
METHOD:PUBLISH
X-PUBLISHED-TTL:P3D
REFRESH-INTERVAL:P3D
CALSCALE:GREGORIAN
BEGIN:VEVENT
DTSTART:20250902T213000Z
DTEND:20250902T223000Z
X-MICROSOFT-CDO-ALLDAYEVENT:FALSE
SUMMARY:NAMI Night
DESCRIPTION:NAMI Moultrie invites you to NAMI Night on Tuesday\, September 2\, 2025\, at the First Methodist Church Fellowship Hall (corner of 5th Ave SE and 2nd St SE\, Moultrie\, GA). This evening event will provide encouragement\, support\, and community connection for individuals and families impacted by mental illness.\n\nThe evening begins at 5:30 p.m. with light refreshments\, followed by a presentation at 5:45 p.m. from Itaska Borowski\, LPC\, Director of Women's Programs at Turning Point Hospital. At 6:30 p.m.\, participants will have the opportunity to join small support groups.
X-ALT-DESC;FMTTYPE=text/html:<p data-end="408" data-start="70"><br />\n<span style="font-size:18px\;">NAMI Moultrie invites you to <em data-end="135" data-start="123">NAMI Night</em> on <strong data-end="169" data-start="139">Tuesday\, September 2\, 2025</strong>\, at the First Methodist Church Fellowship Hall (corner of 5th Ave SE and 2nd St SE\, Moultrie\, GA). This evening event will provide encouragement\, support\, and community connection for individuals and families impacted by mental illness.</span></p>\n\n<p data-end="688" data-start="410"><span style="font-size:18px\;">The evening begins at <strong data-end="469" data-start="432">5:30 p.m. with light refreshments</strong>\, followed by a <strong data-end="514" data-start="485">presentation at 5:45 p.m.</strong> from <em data-end="598" data-start="520">Itaska Borowski\, LPC\, Director of Women&rsquo\;s Programs at Turning Point Hospital</em>. At <strong data-end="616" data-start="603">6:30 p.m.</strong>\, participants will have the opportunity to join small support groups.</span></p>\n
LOCATION:First Methodist Church Fellowship Hall (corner of 5th Ave SE and 2nd St SE\, Moultrie\, GA)
UID:e.570.13401
SEQUENCE:3
DTSTAMP:20260423T135029Z
URL:https://business.moultriechamber.com/events/details/nami-night-13401
END:VEVENT

END:VCALENDAR
