BEGIN:VCALENDAR
VERSION:2.0
PRODID:-//ChamberMaster//Event Calendar 2.0//EN
METHOD:PUBLISH
X-PUBLISHED-TTL:P3D
REFRESH-INTERVAL:P3D
CALSCALE:GREGORIAN
BEGIN:VEVENT
DTSTART:20281106T223000Z
DTEND:20281107T003000Z
X-MICROSOFT-CDO-ALLDAYEVENT:FALSE
SUMMARY:NAMI Moultrie NIght
DESCRIPTION:NAMI Moultrie meets the first Monday of the month at 5:30 in the Fellowship Hall of First United Methodist Church on the corner of 2nd Street and 5th Avenue SE. Ample parking is available and the facility is handicap accessible. Light refreshments are provided\, followed by an educational presentation. Separate support groups for family members and individuals living with a diagnosis wrap up the evening.
X-ALT-DESC;FMTTYPE=text/html:<p>NAMI Moultrie meets the first Monday of the month at 5:30 in the Fellowship Hall of First United Methodist Church on the corner of 2nd Street and 5th Avenue SE. Ample parking is available and the facility is handicap accessible. Light refreshments are provided\, followed by an educational presentation. Separate support groups for family members and individuals living with a diagnosis wrap up the evening.</p>\n
LOCATION:Fellowship Hall of First United Methodist Church on the corner of 2nd Street and 5th Avenue SE
UID:e.570.11899
SEQUENCE:3
DTSTAMP:20260425T152227Z
URL:https://business.moultriechamber.com/events/details/nami-moultrie-night-11-06-2028-11899
END:VEVENT

END:VCALENDAR
