BEGIN:VCALENDAR
VERSION:2.0
PRODID:-//ChamberMaster//Event Calendar 2.0//EN
METHOD:PUBLISH
X-PUBLISHED-TTL:P3D
REFRESH-INTERVAL:P3D
CALSCALE:GREGORIAN
BEGIN:VEVENT
DTSTART:20230317T220000Z
DTEND:20230317T233000Z
X-MICROSOFT-CDO-ALLDAYEVENT:FALSE
SUMMARY:Mystery Night at the Moultrie Library
DESCRIPTION:An evening of food\, fun\, and fundraising to benefit the Public Library As a CSI wannabe\, the local Vice Squad will recruit you\, unofficially of course\, to help with the investigation of a possible homicide. You will attend\, incognito\, the "Reading of the Will" of Ms. Lotta Bux\, filthy rich trillionairess and creator of the Library Paste Barbecue Sauce fortune.
X-ALT-DESC;FMTTYPE=text/html:An evening of food\, fun\, and fundraising to benefit the Public Library As a CSI wannabe\, the local Vice Squad will recruit you\, unofficially of course\, to help with the investigation of a possible homicide. You will attend\, incognito\, the &ldquo\;Reading of the Will&rdquo\; of Ms. Lotta Bux\, filthy rich trillionairess and creator of the Library Paste Barbecue Sauce fortune.
LOCATION:Moultrie Library 204 5th St\, SE Moultrie\, GA
UID:e.570.13095
SEQUENCE:3
DTSTAMP:20260425T010035Z
URL:https://business.moultriechamber.com/events/details/mystery-night-at-the-moultrie-library-13095
END:VEVENT

END:VCALENDAR
