BEGIN:VCALENDAR
VERSION:2.0
PRODID:-//ChamberMaster//Event Calendar 2.0//EN
METHOD:PUBLISH
X-PUBLISHED-TTL:P3D
REFRESH-INTERVAL:P3D
CALSCALE:GREGORIAN
BEGIN:VEVENT
DTSTART:20240710T133000Z
DTEND:20240710T160000Z
X-MICROSOFT-CDO-ALLDAYEVENT:FALSE
SUMMARY:Movies & Popcorn @ the Library
DESCRIPTION:Enjoy family movies on the big screen with hot\, delicious popcorn. July 10: TMNT Mutant Mayhem (99 min/PG)
X-ALT-DESC;FMTTYPE=text/html:Enjoy family movies on the big screen with hot\, delicious popcorn. July 10: TMNT Mutant Mayhem (99 min/PG)
LOCATION:Moultrie -Colquitt County Library 204 5th St\, SE\, Moultrie\, GA
UID:e.570.13279
SEQUENCE:3
DTSTAMP:20260424T052400Z
URL:https://business.moultriechamber.com/events/details/movies-popcorn-the-library-07-10-2024-13279
END:VEVENT

END:VCALENDAR
