BEGIN:VCALENDAR
VERSION:2.0
PRODID:-//ChamberMaster//Event Calendar 2.0//EN
METHOD:PUBLISH
X-PUBLISHED-TTL:P3D
REFRESH-INTERVAL:P3D
CALSCALE:GREGORIAN
BEGIN:VEVENT
DTSTART:20230703T143000Z
DTEND:20230703T160000Z
X-MICROSOFT-CDO-ALLDAYEVENT:FALSE
SUMMARY:Movie & Popcorn @ the Libraryu
DESCRIPTION:Enjoy family favorites on the big screen with hot\, delicious popcorn. Movie: The League of Super Pets PG 1h 47m
X-ALT-DESC;FMTTYPE=text/html:Enjoy family favorites on the big screen with hot\, delicious popcorn. Movie: The League of Super Pets PG 1h 47m
LOCATION:Free
UID:e.570.13165
SEQUENCE:3
DTSTAMP:20260424T203711Z
URL:https://business.moultriechamber.com/events/details/movie-popcorn-the-libraryu-13165
END:VEVENT

END:VCALENDAR
