BEGIN:VCALENDAR
VERSION:2.0
PRODID:-//ChamberMaster//Event Calendar 2.0//EN
METHOD:PUBLISH
X-PUBLISHED-TTL:P3D
REFRESH-INTERVAL:P3D
CALSCALE:GREGORIAN
BEGIN:VEVENT
DTSTART:20240605T143000Z
DTEND:20240605T160000Z
X-MICROSOFT-CDO-ALLDAYEVENT:FALSE
SUMMARY:Movie & Popcorn @ the Library
DESCRIPTION:Enjoy family favorites on the big screen with hot\, delicious popcorn. Trolls Band Together (92 minutes)
X-ALT-DESC;FMTTYPE=text/html:Enjoy family favorites on the big screen with hot\, delicious popcorn. Trolls Band Together (92 minutes)
LOCATION:Moultrie- Colquitt County Library 204 5th Ave\, SE\, Moultrie\, GA 31768
UID:e.570.13269
SEQUENCE:3
DTSTAMP:20260424T064443Z
URL:https://business.moultriechamber.com/events/details/movie-popcorn-the-library-06-05-2024-13269
END:VEVENT

END:VCALENDAR
