BEGIN:VCALENDAR
VERSION:2.0
PRODID:-//ChamberMaster//Event Calendar 2.0//EN
METHOD:PUBLISH
X-PUBLISHED-TTL:P3D
REFRESH-INTERVAL:P3D
CALSCALE:GREGORIAN
BEGIN:VEVENT
DTSTART:20231121T140000Z
DTEND:20231121T180000Z
X-MICROSOFT-CDO-ALLDAYEVENT:FALSE
SUMMARY:Moultrie Women's Clubhouse Bake Sale
DESCRIPTION:The members of the Moultrie Federated Guild\, the Moultrie Junior Woman's Club and the John Benning Chapter of the Daughters of the American Revolution are hosting their annual Bake Sale on the Tuesday before Thanksgiving. All items are homemade. If you wish to pre-purchase\, contact any of the clubs' members.
X-ALT-DESC;FMTTYPE=text/html:The members of the Moultrie Federated Guild\, the Moultrie Junior Woman&#39\;s Club and the John Benning Chapter of the Daughters of the American Revolution are hosting their annual Bake Sale on the Tuesday before Thanksgiving. All items are homemade. If you wish to pre-purchase\, contact any of the clubs&#39\; members.
LOCATION:Moultrie Federated Women's Clubhouse located at 1155 Second Street\, SE.
UID:e.570.13212
SEQUENCE:3
DTSTAMP:20260424T163150Z
URL:https://business.moultriechamber.com/events/details/moultrie-women-s-clubhouse-bake-sale-13212
END:VEVENT

END:VCALENDAR
