BEGIN:VCALENDAR
VERSION:2.0
PRODID:-//ChamberMaster//Event Calendar 2.0//EN
METHOD:PUBLISH
X-PUBLISHED-TTL:P3D
REFRESH-INTERVAL:P3D
CALSCALE:GREGORIAN
BEGIN:VEVENT
DTSTART:20250729T200000Z
DTEND:20250729T200000Z
X-MICROSOFT-CDO-ALLDAYEVENT:FALSE
SUMMARY:Moultrie Police Department-Back to school Backpack giveaway
DESCRIPTION:Join us for the Back to School Backpack Giveaway   a community-driven event designed to support families by providing free backpacks for students.
X-ALT-DESC;FMTTYPE=text/html:Join us for the <strong data-end="342" data-start="306">Back to School Backpack Giveaway</strong> &mdash\; a community-driven event designed to support families by providing free backpacks for students.
LOCATION:Moultrie Police Department 128 1st Street SW\, Moultrie\, GA
UID:e.570.13380
SEQUENCE:3
DTSTAMP:20260423T111010Z
URL:https://business.moultriechamber.com/events/details/moultrie-police-department-back-to-school-backpack-giveaway-13380
END:VEVENT

END:VCALENDAR
