BEGIN:VCALENDAR
VERSION:2.0
PRODID:-//ChamberMaster//Event Calendar 2.0//EN
METHOD:PUBLISH
X-PUBLISHED-TTL:P3D
REFRESH-INTERVAL:P3D
CALSCALE:GREGORIAN
BEGIN:VEVENT
DTSTART:20231207T200000Z
DTEND:20231208T000000Z
X-MICROSOFT-CDO-ALLDAYEVENT:FALSE
SUMMARY:Moultrie Federation Clubhouse Trustees Christmas Tour of Homes
DESCRIPTION:Please join us for the Third Women's Clubhouse Trustees Christmas Tour of Homes! The last two have been sensational and this year's will not disappoint. The homes will be announced soon\, so save the date! Proceeds go toward the renovation and restoration of the Women's Clubhouse located on Second Street\, SE.
X-ALT-DESC;FMTTYPE=text/html:Please join us for the Third Women&#39\;s Clubhouse Trustees Christmas Tour of Homes! The last two have been sensational and this year&#39\;s will not disappoint. The homes will be announced soon\, so save the date! Proceeds go toward the renovation and restoration of the Women&#39\;s Clubhouse located on Second Street\, SE.
LOCATION:TBA
UID:e.570.13150
SEQUENCE:3
DTSTAMP:20260424T135423Z
URL:https://business.moultriechamber.com/events/details/moultrie-federation-clubhouse-trustees-christmas-tour-of-homes-13150
END:VEVENT

END:VCALENDAR
