BEGIN:VCALENDAR
VERSION:2.0
PRODID:-//ChamberMaster//Event Calendar 2.0//EN
METHOD:PUBLISH
X-PUBLISHED-TTL:P3D
REFRESH-INTERVAL:P3D
CALSCALE:GREGORIAN
BEGIN:VEVENT
DTSTART:20230330T221500Z
DTEND:20230331T010000Z
X-MICROSOFT-CDO-ALLDAYEVENT:FALSE
SUMMARY:Moultrie-Colquitt County Chamber of Commerce 113th Annual Meeting & Community Awards
DESCRIPTION:We are proud to host the Moultrie-Colquitt County Chamber of Commerce 113th Annual Meeting & Community Awards on Thursday\, March 30th at the Mulkey-Ndawula Event Center - Southwest Georgia Community Action Council - 912 1st Ave SE in Moultrie. This event will provide a recap of a successful 2022 along with business and community awards presentation. We will hear from the Chamber's 2023 Board Chair\, Connie Fritz\, plus an introduction of our 2023 Board of Directors. Cocktails and Silent Auction start at 6:15pm with dinner and program at 7:00pm. Contact the Chamber at 985-2131 for ticket and table information.
X-ALT-DESC;FMTTYPE=text/html:We are proud to host the Moultrie-Colquitt County Chamber of Commerce 113th Annual Meeting &amp\; Community Awards on Thursday\, March 30th at the Mulkey-Ndawula Event Center - Southwest Georgia Community Action Council - 912 1st Ave SE in Moultrie. This event will provide a recap of a successful 2022 along with business and community awards presentation. We will hear from the Chamber&#39\;s 2023 Board Chair\, Connie Fritz\, plus an introduction of our 2023 Board of Directors. Cocktails and Silent Auction start at 6:15pm with dinner and program at 7:00pm. Contact the Chamber at 985-2131 for ticket and table information.
LOCATION:Southwest Georgia Community Action Council 912 1st Ave SE
UID:e.570.13061
SEQUENCE:3
DTSTAMP:20260425T010412Z
URL:https://business.moultriechamber.com/events/details/moultrie-colquitt-county-chamber-of-commerce-113th-annual-meeting-community-awards-13061
END:VEVENT

END:VCALENDAR
