BEGIN:VCALENDAR
VERSION:2.0
PRODID:-//ChamberMaster//Event Calendar 2.0//EN
METHOD:PUBLISH
X-PUBLISHED-TTL:P3D
REFRESH-INTERVAL:P3D
CALSCALE:GREGORIAN
BEGIN:VEVENT
DTSTART:20230428T230000Z
DTEND:20230501T010000Z
X-MICROSOFT-CDO-ALLDAYEVENT:FALSE
SUMMARY:Mou-Town Melodies
DESCRIPTION:Local Talent performing hits including Natural Woman\, Sweet Love\, Can't Hurry Love\, What's Love Got to do With It? A house is Not A Home and more.
X-ALT-DESC;FMTTYPE=text/html:Local Talent performing hits including Natural Woman\, Sweet Love\, Can&#39\;t Hurry Love\, What&#39\;s Love Got to do With It? A house is Not A Home and more.
LOCATION:The Arts Center of Moultrie
UID:e.570.13098
SEQUENCE:3
DTSTAMP:20260424T233601Z
URL:https://business.moultriechamber.com/events/details/mou-town-melodies-13098
END:VEVENT

END:VCALENDAR
