BEGIN:VCALENDAR
VERSION:2.0
PRODID:-//ChamberMaster//Event Calendar 2.0//EN
METHOD:PUBLISH
X-PUBLISHED-TTL:P3D
REFRESH-INTERVAL:P3D
CALSCALE:GREGORIAN
BEGIN:VEVENT
DTSTART:20230429T140000Z
DTEND:20230429T170000Z
X-MICROSOFT-CDO-ALLDAYEVENT:FALSE
SUMMARY:Hearts and Handprints Fundraiser hosted by Mustard Seed Cottage\, Inc. and Moultrie Jr. Woman's Club
DESCRIPTION:Join us at the Moultrie Jr. Woman's Club house (located at 1155 2nd Street SE\, between Trinity and the Catholic church) on Saturday\, April 29\,2023 from 10am to 1pm for Hearts and Handprints. Moms\, dads\, grand-fathers\, grand-mothers\, aunts and uncles are welcome to bring their children to come paint plates/platters for their mothers\, grandmothers etc.  This is a ticketed event and will consist of brunch foods from Baba's\, a special "Mustard Seed Cottage" drink (non-alcoholic)\, and a plate/platter to paint for $30\, additional plates/platters are available for $10 more.  A silent auction will also be available for Raffle Baskets that will take place at 12 noon.  The baskets will consist of donated gifts from various Moultrie businesses.  Ticket sales and more information will be announced soon. We look forward to seeing you there.
X-ALT-DESC;FMTTYPE=text/html:<h2 style="font-style:italic"><span style="font-size:20px"><span style="font-family:comic sans ms"><span style="color:#DAA520">Join us at the Moultrie Jr. Woman&#39\;s Club house (located at 1155 2nd Street SE\, between Trinity and the Catholic church) on Saturday\, April 29\,2023 from 10am to 1pm for Hearts and Handprints. Moms\, dads\, grand-fathers\, grand-mothers\, aunts and uncles are welcome to bring their children to come paint plates/platters for their mothers\, grandmothers etc.&nbsp\; This is a ticketed event and will consist of brunch foods from Baba&#39\;s\, a special &quot\;Mustard Seed Cottage&quot\; drink (non-alcoholic)\, and a plate/platter to paint for $30\, additional plates/platters are available for $10 more.&nbsp\; A silent auction will also be available for Raffle Baskets that will take place at 12 noon.&nbsp\; The baskets will consist of donated gifts from various Moultrie businesses.&nbsp\; Ticket sales and more information will be announced soon. We look forward to seeing you there.</span></span></span></h2>\n
LOCATION:1155 Second Street SE.\, Moultrie\, GA 31768
UID:e.570.13087
SEQUENCE:3
DTSTAMP:20260424T234253Z
URL:https://business.moultriechamber.com/events/details/mother-s-day-brunch-fundraiser-hosted-by-mustard-seed-cottage-inc-and-moultrie-jr-woman-s-club-13087
END:VEVENT

END:VCALENDAR
