BEGIN:VCALENDAR
VERSION:2.0
PRODID:-//ChamberMaster//Event Calendar 2.0//EN
METHOD:PUBLISH
X-PUBLISHED-TTL:P3D
REFRESH-INTERVAL:P3D
CALSCALE:GREGORIAN
BEGIN:VEVENT
DTSTART:20231120T130000Z
DTEND:20231121T170000Z
X-MICROSOFT-CDO-ALLDAYEVENT:FALSE
SUMMARY:Mini REC Camp
DESCRIPTION:$20 both days Max 30 participants Campers will choose 2 of the following sports to try: Basketball Baseball T-ball Volleyball Children will be swimming both days! Snack is provided. 8-8:30 Free Play 8:30-9:15 Try A Sport 9:15-9:30 Snack Time 9:45-10:30 Try A Sport 10:45-11:30 Swim 11:30-12:00 Dry off\, clean up\, free play until pickup
X-ALT-DESC;FMTTYPE=text/html:$20 both days Max 30 participants Campers will choose 2 of the following sports to try: Basketball Baseball T-ball Volleyball Children will be swimming both days! Snack is provided. 8-8:30 Free Play 8:30-9:15 Try A Sport 9:15-9:30 Snack Time 9:45-10:30 Try A Sport 10:45-11:30 Swim 11:30-12:00 Dry off\, clean up\, free play until pickup
LOCATION:Jim Buck Goff Complex
UID:e.570.13196
SEQUENCE:3
DTSTAMP:20260424T151716Z
URL:https://business.moultriechamber.com/events/details/mini-rec-camp-11-20-2023-13196
END:VEVENT

END:VCALENDAR
