BEGIN:VCALENDAR
VERSION:2.0
PRODID:-//ChamberMaster//Event Calendar 2.0//EN
METHOD:PUBLISH
X-PUBLISHED-TTL:P3D
REFRESH-INTERVAL:P3D
CALSCALE:GREGORIAN
BEGIN:VEVENT
DTSTART:20250712T120000Z
DTEND:20250712T120000Z
X-MICROSOFT-CDO-ALLDAYEVENT:FALSE
SUMMARY:Mini Football Camp-Gentlemen's club
DESCRIPTION:Join NFL player T.J. Smith for an exciting day of athletic training and mentorship at the 3 Parts of Man Mini Football Camp. Designed for young athletes in grades K 8\, this camp offers an incredible opportunity to learn football fundamentals\, build confidence\, and be inspired by a professional athlete.
X-ALT-DESC;FMTTYPE=text/html:Join NFL player T.J. Smith for an exciting day of athletic training and mentorship at the 3 Parts of Man Mini Football Camp. Designed for young athletes in grades K&ndash\;8\, this camp offers an incredible opportunity to learn football fundamentals\, build confidence\, and be inspired by a professional athlete.
LOCATION:Mack Tharpe Stadium\, 950 4th Street\, Moultrie\, GA
UID:e.570.13367
SEQUENCE:3
DTSTAMP:20260423T123134Z
URL:https://business.moultriechamber.com/events/details/mini-football-camp-gentlemen-s-club-13367
END:VEVENT

END:VCALENDAR
