BEGIN:VCALENDAR
VERSION:2.0
PRODID:-//ChamberMaster//Event Calendar 2.0//EN
METHOD:PUBLISH
X-PUBLISHED-TTL:P3D
REFRESH-INTERVAL:P3D
CALSCALE:GREGORIAN
BEGIN:VEVENT
DTSTART;VALUE=DATE:20230606
DTEND;VALUE=DATE:20230607
TRANSP:TRANSPARENT
X-MICROSOFT-CDO-ALLDAYEVENT:TRUE
SUMMARY:Mickey and Minnie Mouse at Main Street Park
DESCRIPTION:Mickey and Minnie Mouse June 6 10am and 6pm Main Street Park
X-ALT-DESC;FMTTYPE=text/html:Mickey and Minnie Mouse June 6 10am and 6pm Main Street Park
LOCATION:Main Street Park
UID:e.570.13157
SEQUENCE:3
DTSTAMP:20260424T211119Z
URL:https://business.moultriechamber.com/events/details/mickey-and-minnie-mouse-at-main-street-park-13157
END:VEVENT

END:VCALENDAR
