BEGIN:VCALENDAR
VERSION:2.0
PRODID:-//ChamberMaster//Event Calendar 2.0//EN
METHOD:PUBLISH
X-PUBLISHED-TTL:P3D
REFRESH-INTERVAL:P3D
CALSCALE:GREGORIAN
BEGIN:VEVENT
DTSTART:20251007T210000Z
DTEND:20251007T220000Z
X-MICROSOFT-CDO-ALLDAYEVENT:FALSE
SUMMARY:Meet & Greet Your City Council Candidates
DESCRIPTION:The community is invited to attend a City Council Candidate Meet & Greet on Tuesday\, October 7\, 2025\, at 5:00 PM at the Arts Center of Moultrie (401 7th Ave SW\, Moultrie).\n\nThe evening will begin with a brief forum highlighting the November 7 ballot\, with a focus on F.L.O.S.T. Following the forum\, candidates will be available for informal\, one-on-one conversations. This is a unique opportunity for residents to connect directly with candidates\, hear about their vision for the city\, and ask questions in an open and welcoming setting.\n\nThis event is free and open to all members of the community.
X-ALT-DESC;FMTTYPE=text/html:&nbsp\;\n<p data-end="298" data-start="117"><span style="font-size:18px\;">The community is invited to attend a City Council Candidate Meet &amp\; Greet on <strong data-end="233" data-start="193">Tuesday\, October 7\, 2025\, at 5:00 PM</strong> at the <strong data-end="295" data-start="241">Arts Center of Moultrie (401 7th Ave SW\, Moultrie)</strong>.</span></p>\n\n<p data-end="670" data-start="300"><span style="font-size:18px\;">The evening will begin with a brief forum highlighting the <strong data-end="380" data-start="359">November 7 ballot</strong>\, with a focus on F.L.O.S.T. Following the forum\, candidates will be available for informal\, one-on-one conversations. This is a unique opportunity for residents to connect directly with candidates\, hear about their vision for the city\, and ask questions in an open and welcoming setting.</span></p>\n\n<p data-end="734" data-start="672"><span style="font-size:18px\;">This event is free and open to all members of the community.</span></p>\n
LOCATION:Arts Center of Moultrie 401 7th Ave SW\, Moultrie
UID:e.570.13430
SEQUENCE:3
DTSTAMP:20260423T152130Z
URL:https://business.moultriechamber.com/events/details/meet-greet-your-city-council-candidates-13430
END:VEVENT

END:VCALENDAR
