BEGIN:VCALENDAR
VERSION:2.0
PRODID:-//ChamberMaster//Event Calendar 2.0//EN
METHOD:PUBLISH
X-PUBLISHED-TTL:P3D
REFRESH-INTERVAL:P3D
CALSCALE:GREGORIAN
BEGIN:VEVENT
DTSTART:20250819T143000Z
DTEND:20250819T163000Z
X-MICROSOFT-CDO-ALLDAYEVENT:FALSE
SUMMARY:Maximum money series -UGA small business development center
DESCRIPTION:The University of Georgia's Small Business Development Center presents the Maximum Money Series\, a 4-part course designed to help small business owners improve cash flow\, increase profitability\, and plan for growth or sale. This interactive workshop series will guide participants through essential financial topics such as financial statements\, cash flow vs. profit\, budgeting\, and loan application strategies.
X-ALT-DESC;FMTTYPE=text/html:The University of Georgia&rsquo\;s Small Business Development Center presents the Maximum Money Series\, a 4-part course designed to help small business owners improve cash flow\, increase profitability\, and plan for growth or sale. This interactive workshop series will guide participants through essential financial topics such as financial statements\, cash flow vs. profit\, budgeting\, and loan application strategies.
LOCATION:Innovate Hub\, 2303 Dawson Road\, Albany\, GA 31707
UID:e.570.13370
SEQUENCE:3
DTSTAMP:20260423T110728Z
URL:https://business.moultriechamber.com/events/details/maximum-money-series-uga-small-business-development-center-13370
END:VEVENT

END:VCALENDAR
