BEGIN:VCALENDAR
VERSION:2.0
PRODID:-//ChamberMaster//Event Calendar 2.0//EN
METHOD:PUBLISH
X-PUBLISHED-TTL:P3D
REFRESH-INTERVAL:P3D
CALSCALE:GREGORIAN
BEGIN:VEVENT
DTSTART;VALUE=DATE:20250805
DTEND;VALUE=DATE:20250806
TRANSP:TRANSPARENT
X-MICROSOFT-CDO-ALLDAYEVENT:TRUE
SUMMARY:Maximum Money Series - UGA SBDC
DESCRIPTION:The University of Georgia's Small Business Development Center presents the Maximum Money Series\, a 4-part course designed to help small business owners improve cash flow\, increase profitability\, and plan for growth or sale. This interactive workshop series will guide participants through essential financial topics such as financial statements\, cash flow vs. profit\, budgeting\, and loan application strategies.
X-ALT-DESC;FMTTYPE=text/html:The University of Georgia&rsquo\;s Small Business Development Center presents the Maximum Money Series\, a 4-part course designed to help small business owners improve cash flow\, increase profitability\, and plan for growth or sale. This interactive workshop series will guide participants through essential financial topics such as financial statements\, cash flow vs. profit\, budgeting\, and loan application strategies.
LOCATION:Innovate Hub\, 2303 Dawson Road\, Albany\, GA 31707
UID:e.570.13368
SEQUENCE:3
DTSTAMP:20260423T110646Z
URL:https://business.moultriechamber.com/events/details/maximum-money-series-uga-sbdc-08-05-2025-13368
END:VEVENT

END:VCALENDAR
