BEGIN:VCALENDAR
VERSION:2.0
PRODID:-//ChamberMaster//Event Calendar 2.0//EN
METHOD:PUBLISH
X-PUBLISHED-TTL:P3D
REFRESH-INTERVAL:P3D
CALSCALE:GREGORIAN
BEGIN:VEVENT
DTSTART:20250120T190000Z
DTEND:20250120T230000Z
X-MICROSOFT-CDO-ALLDAYEVENT:FALSE
SUMMARY:Martin Luther King\, Jr. Birthday Celebration Parade
DESCRIPTION:38th Anniversary of Colquitt County's MLK JR. Parade
X-ALT-DESC;FMTTYPE=text/html:38th Anniversary of Colquitt County&#39\;s MLK JR. Parade
LOCATION:Downtown Moultrie
UID:e.570.13326
SEQUENCE:3
DTSTAMP:20260423T213911Z
URL:https://business.moultriechamber.com/events/details/martin-luther-king-jr-birthday-celebration-parade-13326
END:VEVENT

END:VCALENDAR
