BEGIN:VCALENDAR
VERSION:2.0
PRODID:-//ChamberMaster//Event Calendar 2.0//EN
METHOD:PUBLISH
X-PUBLISHED-TTL:P3D
REFRESH-INTERVAL:P3D
CALSCALE:GREGORIAN
BEGIN:VEVENT
DTSTART:20230311T130000Z
DTEND:20230312T210000Z
X-MICROSOFT-CDO-ALLDAYEVENT:FALSE
SUMMARY:Lifeguard Training Course
DESCRIPTION:This is a two-day event. The purpose of the Lifeguarding program is to train lifeguards to act with speed and confidence in emergency situations both in and out of the water. Topics include water rescue skills\, surveillance and recognition\, first aid\, breathing and cardiac emergencies\, CPR\, AED\, and more. Courses within the Lifeguarding Program include Lifeguarding (for facilities with pool depths greater than 7 feet)\, Shallow Water Lifeguarding (for facilities with pool depths less than or equal to 5 feet)\, and Aquatic Attraction Lifeguarding (for facilities with aquatic attractions and pool depths less than or equal to 3 feet). Lifeguarding courses are available in both the traditional\, instructor led delivery as well as blended learning delivery\, which combines eLearning with in-person skills practice.
X-ALT-DESC;FMTTYPE=text/html:This is a two-day event. The purpose of the Lifeguarding program is to train lifeguards to act with speed and confidence in emergency situations both in and out of the water. Topics include water rescue skills\, surveillance and recognition\, first aid\, breathing and cardiac emergencies\, CPR\, AED\, and more. Courses within the Lifeguarding Program include Lifeguarding (for facilities with pool depths greater than 7 feet)\, Shallow Water Lifeguarding (for facilities with pool depths less than or equal to 5 feet)\, and Aquatic Attraction Lifeguarding (for facilities with aquatic attractions and pool depths less than or equal to 3 feet). Lifeguarding courses are available in both the traditional\, instructor led delivery as well as blended learning delivery\, which combines eLearning with in-person skills practice.
LOCATION:SW Memorial Pool
UID:e.570.13023
SEQUENCE:3
DTSTAMP:20260425T022904Z
URL:https://business.moultriechamber.com/events/details/lifeguard-training-course-03-11-2023-13023
END:VEVENT

END:VCALENDAR
