BEGIN:VCALENDAR
VERSION:2.0
PRODID:-//ChamberMaster//Event Calendar 2.0//EN
METHOD:PUBLISH
X-PUBLISHED-TTL:P3D
REFRESH-INTERVAL:P3D
CALSCALE:GREGORIAN
BEGIN:VEVENT
DTSTART:20251002T200000Z
DTEND:20251002T213000Z
X-MICROSOFT-CDO-ALLDAYEVENT:FALSE
SUMMARY:Let's Create: Paint a Canvas - MCCPRA
DESCRIPTION:Get creative with Moultrie-Colquitt County Parks & Recreation Authority at a fun\, hands-on art event designed for all ages. Participants will have the opportunity to paint their very own canvas and explore their artistic side in a relaxed\, supportive environment.
X-ALT-DESC;FMTTYPE=text/html:<br />\n<span style="font-size:18px\;">Get creative with Moultrie-Colquitt County Parks &amp\; Recreation Authority at a fun\, hands-on art event designed for all ages. Participants will have the opportunity to paint their very own canvas and explore their artistic side in a relaxed\, supportive environment.</span>
LOCATION:Shaw Gym Craft Room
UID:e.570.13432
SEQUENCE:3
DTSTAMP:20260423T151301Z
URL:https://business.moultriechamber.com/events/details/let-s-create-paint-a-canvas-mccpra-13432
END:VEVENT

END:VCALENDAR
