BEGIN:VCALENDAR
VERSION:2.0
PRODID:-//ChamberMaster//Event Calendar 2.0//EN
METHOD:PUBLISH
X-PUBLISHED-TTL:P3D
REFRESH-INTERVAL:P3D
CALSCALE:GREGORIAN
BEGIN:VEVENT
DTSTART:20230606T143000Z
DTEND:20230606T153000Z
X-MICROSOFT-CDO-ALLDAYEVENT:FALSE
SUMMARY:LEGO Wheel Challenge @ the Library
DESCRIPTION:Join us for LEGO-tastic fun! Build what you like or spin the wheel for a new challenge.
X-ALT-DESC;FMTTYPE=text/html:Join us for LEGO-tastic fun! Build what you like or spin the wheel for a new challenge.
LOCATION:Moultrie-Library 204 5th Ave Moultrie\, GA
UID:e.570.13130
SEQUENCE:3
DTSTAMP:20260424T210536Z
URL:https://business.moultriechamber.com/events/details/lego-wheel-challenge-the-library-13130
END:VEVENT

END:VCALENDAR
